BEGIN:VCALENDAR
VERSION:2.0
PRODID:-//Sophicity/Tribune/Hogansville, GA
BEGIN:VEVENT
DTSTAMP:20260423T143217Z
UID:e38bd3f4-da44-4283-b85a-c89aa8858848-6144
DTSTART:20260518T230000Z
DTEND:20260519T000000Z
CLASS:PUBLIC
SUMMARY:City Council Meeting 
END:VEVENT
END:VCALENDAR
